BEGIN:VCALENDAR
VERSION:2.0
PRODID:-//ChamberMaster//Event Calendar 2.0//EN
METHOD:PUBLISH
X-PUBLISHED-TTL:P3D
REFRESH-INTERVAL:P3D
CALSCALE:GREGORIAN
BEGIN:VEVENT
DTSTART:20230308T180000Z
DTEND:20230310T210000Z
X-MICROSOFT-CDO-ALLDAYEVENT:FALSE
SUMMARY:MAKE IT COUNT: ELEA National Conference hosted by Region 1
DESCRIPTION:Join other ELCA School and Center Administrators\, and Pastors for our National Conference in partnership with ELEA Region 1!  This event is packed with 25 workshop offerings\, a keynote from Lesley Moffat\, an opening reception with entertainment\, a keynote from Deenna Eley\, the ELEA Awards Banquet recognizing award winners from 2021 and 2022\, an affinity lunch\, exhibit hall\, worship\, and so much more!  \n\n\n\nConference Program Guide \n\n\n	Pre-conference Event: Quality of Life Begins at Birth - 5: How Educators Can Enhance this Process with Successful Interactive Development
X-ALT-DESC;FMTTYPE=text/html:<p><span style="font-size:16px\;"><span style="font-family:tahoma\;">Join other ELCA School and Center Administrators\, and Pastors for our National Conference in partnership with ELEA Region 1!&nbsp\; This event is packed with <strong>25 workshop offerings</strong>\, a keynote from <strong>Lesley Moffat</strong>\, an <strong>opening reception</strong> with entertainment\, a keynote from <strong>Deenna Eley</strong>\, the <strong>ELEA Awards Banquet</strong> recognizing award winners from 2021 and 2022\, an <strong>affinity lunch</strong>\, <strong>exhibit hall\,&nbsp\;worship\,&nbsp\;and so much more!&nbsp\;</strong>&nbsp\;<br />\n<br />\n<a href="https://www.canva.com/design/DAFPUMWjyZU/Ve1m90cMLEmarKFQQaPgwA/view?utm_content=DAFPUMWjyZU&amp\;utm_campaign=designshare&amp\;utm_medium=link&amp\;utm_source=publishsharelink"><span style="color:#0000CD\;">Conference Program Guide</span>&nbsp\;</a></span></span></p>\n\n<ul>\n	<li><span style="font-size:16px\;"><span style="font-family:tahoma\;"><a href="https://members.elcaschools.org/events/details/quality-of-life-begins-at-birth-5-how-educators-can-enhance-this-process-with-successful-communicative-development-66"><span style="color:#0000FF\;">Pre-conference Event:&nbsp\;Quality of Life Begins at Birth - 5: How Educators Can Enhance this Process with Successful Interactive&nbsp\;Development</span></a></span></span></li>\n</ul>\n
LOCATION:Rates as low as $119 for a 2 Dbl\, 2 Room Suite w/ Sofabed at the DoubleTree Suites by Hilton Hotel Seattle Airport - Southcenter Within three miles of Seattle-Tacoma International Airport and Westfield Southcenter Mall\, and just 5 miles to Kubota Garden\, The Museum of Flight\, and Tukwila Family Fun Center. Downtown Seattle\, home to Pike Place Market\, is less than 20 minutes away. Enjoy our free local shuttle (to Link Lightrail station and airport) and a warm DoubleTree cookie on arrival.
UID:e.9247.61
SEQUENCE:3
DTSTAMP:20260423T231732Z
URL:https://members.elcaschools.org/events/details/make-it-count-elea-national-conference-hosted-by-region-1-61
END:VEVENT

END:VCALENDAR
