BEGIN:VCALENDAR
VERSION:2.0
PRODID:-//ChamberMaster//Event Calendar 2.0//EN
METHOD:PUBLISH
X-PUBLISHED-TTL:P3D
REFRESH-INTERVAL:P3D
CALSCALE:GREGORIAN
BEGIN:VEVENT
DTSTART;VALUE=DATE:20230209
DTEND;VALUE=DATE:20230212
TRANSP:TRANSPARENT
X-MICROSOFT-CDO-ALLDAYEVENT:TRUE
SUMMARY:Region 3 ELEA Early Childhood Educator Conference 2023
DESCRIPTION:Brochure Available Here\n\nJoin us Thursday evening 2/9 for a Leadership Reception for dinner\, networking and a presentation on equity in the early childhood field.  \n\n\n\nKeynote Presenters:  Lisa Murphy\, Ooey Gooey Inc. & Carol Garboden Murray
X-ALT-DESC;FMTTYPE=text/html:<br />\n<span style="color: rgb(117\, 117\, 117)\; font-family: Helvetica\; font-size: 16px\;"><a href="https://chambermaster.blob.core.windows.net/userfiles/UserFiles/chambers/9247/File/2023ConferenceProgram1.8.231615.pdf"><span style="font-size:20px\;"><strong>Brochure Available Here</strong></span></a><br />\nJoin us Thursday evening 2/9 for a Leadership Reception for dinner\, networking and a presentation on equity in the early childhood field.&nbsp\;&nbsp\;<br />\n<br />\nKeynote Presenters:&nbsp\; <a href="https://www.ooeygooey.com/">Lisa Murphy\, Ooey Gooey Inc.</a>&nbsp\;&amp\; <a href="https://www.carolgarbodenmurray.com/illuminating-care.html">Carol Garboden Murray</a></span><br />\n&nbsp\;
LOCATION:Calvary Golden Valley Campus 7520 Golden Valley Road Golden Valley\, MN 55427
UID:e.9247.54
SEQUENCE:3
DTSTAMP:20260424T004103Z
URL:https://members.elcaschools.org/events/details/region-3-elea-early-childhood-educator-conference-2023-54
END:VEVENT

END:VCALENDAR
