BEGIN:VCALENDAR
VERSION:2.0
PRODID:-//ChamberMaster//Event Calendar 2.0//EN
METHOD:PUBLISH
X-PUBLISHED-TTL:P3D
REFRESH-INTERVAL:P3D
CALSCALE:GREGORIAN
BEGIN:VEVENT
DTSTART;VALUE=DATE:20180209
DTEND;VALUE=DATE:20180211
TRANSP:TRANSPARENT
X-MICROSOFT-CDO-ALLDAYEVENT:TRUE
SUMMARY:Region 3 Annual Early Childhood Educator's Conference
DESCRIPTION:Join us for two days of sessions for directors\, teachers\, assistants\, and aides! Be refilled with new ideas\, worship and fellowship time with fellow educators. Rebecca Isbell will keynote Friday on Nurturing Creativity\, and Tracy Schreifels will be out keynote for Saturday. This is a wonderful event you do not want to miss!
X-ALT-DESC;FMTTYPE=text/html:Join us for two days of sessions for directors\, teachers\, assistants\, and aides! Be refilled with new ideas\, worship and fellowship time with fellow educators. Rebecca Isbell will keynote Friday on Nurturing Creativity\, and Tracy Schreifels will be out keynote for Saturday. This is a wonderful event you do not want to miss!
LOCATION:Calvary Lutheran Church\, Golden Valley\, MN
UID:e.9247.23
SEQUENCE:3
DTSTAMP:20260419T131557Z
URL:https://members.elcaschools.org/events/details/region-3-annual-early-childhood-educator-s-conference-23
END:VEVENT

END:VCALENDAR
