BEGIN:VCALENDAR
VERSION:2.0
PRODID:-//ChamberMaster//Event Calendar 2.0//EN
METHOD:PUBLISH
X-PUBLISHED-TTL:P3D
REFRESH-INTERVAL:P3D
CALSCALE:GREGORIAN
BEGIN:VEVENT
DTSTART;VALUE=DATE:20240315
DTEND;VALUE=DATE:20240317
TRANSP:TRANSPARENT
X-MICROSOFT-CDO-ALLDAYEVENT:TRUE
SUMMARY:Region 1 Conference: Back In The Groove
DESCRIPTION:The Region 1 Conference\, Back in the Groove\, with Keynote by Jennie Williamson\, will be held at Gloria Dei Lutheran Preschool\, Olympia\, WA\, March 15-16th\, 2024.  This two day event will offer attendees an opportunity to connect with colleagues\, learn from experts in the field\, and be inspired to excel.  Register online today.  The preferred payment method is directly to Gloria Dei\, details below.  \n\n\n\nLunch will be provided.  Friday will be a taco bar and Saturday will be a baked potato bar.  Both days there will be gluten free options available. \n\n\n\nContact Michelle Johnson at mrsjohnsongdlp@gmail.com or Erin Holmquist at preschool@gloriadeiolympia.org for more info.
X-ALT-DESC;FMTTYPE=text/html:<span style="font-family:tahoma\;"><span style="font-size:16px\;">The Region 1 Conference\, Back in the Groove\, with Keynote by Jennie Williamson\, will be held at Gloria Dei Lutheran Preschool\, Olympia\, WA\, March 15-16th\, 2024.&nbsp\; This two day event will offer attendees an opportunity to connect with colleagues\, learn from experts in the field\, and be inspired to excel.&nbsp\; Register online today.&nbsp\; The preferred payment method is directly to Gloria Dei\, details below.&nbsp\;&nbsp\;<br />\n<br />\nLunch will be provided.&nbsp\; Friday will be a taco bar and Saturday will be a baked potato bar.&nbsp\; Both days there will be gluten free options available.&nbsp\;<br />\n<br />\nContact Michelle Johnson at mrsjohnsongdlp@gmail.com or Erin Holmquist at preschool@gloriadeiolympia.org for more info.&nbsp\;</span></span>
LOCATION:Conference Host: Gloria Dei Lutheran Preschool 1515 Harrison Avenue NW Olympia\, WA 98502 Local Hotels: Courtyard by Marriott 2301 Henderson Park Lane NE Olympia\, WA 98501 Woodspring Suites 3903 Martin Way E Olympia\, WA 98506 Hampton Inn & Suites 4301 Martin Way East Olympia\, WA 98516 Ramada by Wyndham Olympia 4520 Martin Way East Olympia\, WA 98516 La Quinta Inn & Suites - Tumwater/Olympia 4600 Capital Boulevard SE Tumwater\, WA 98501
UID:e.9247.106
SEQUENCE:3
DTSTAMP:20260423T065421Z
URL:https://members.elcaschools.org/events/details/region-1-conference-back-in-the-groove-106
END:VEVENT

END:VCALENDAR
