BEGIN:VCALENDAR
VERSION:2.0
PRODID:-//ChamberMaster//Event Calendar 2.0//EN
METHOD:PUBLISH
X-PUBLISHED-TTL:P3D
REFRESH-INTERVAL:P3D
CALSCALE:GREGORIAN
BEGIN:VEVENT
DTSTART:20240131T190000Z
DTEND:20240131T200000Z
X-MICROSOFT-CDO-ALLDAYEVENT:FALSE
SUMMARY:POSTPONED TBD: Research-Based Responses to Community Needs
DESCRIPTION:Join us for a free webinar to explore how ELEA schools and churches impact their communities and parents. You'll hear the latest Barna research and stories from practitioners on how they've seen these findings have an impact in their contexts. You'll leave this webinar with practical insights for your own ministry contexts. \n\n\n	Co-Hosts: Cory Newman & Morgan Faasse \n	Barna Research Presenter: Savannah Kimberlin\n	Audience: \n	\n		School and Congregation leaders of the ELEA\n		ELCA leaders and stakeholders are considering schools and learning centers as a ministry.\n		Congregations with schools and centers\, also looking to reach congregations who are considering partnerships with schools (synod offices\, larger ELCA network)\n	\n	\n	Action Step: Deploy the assessment to your parents and caregivers of young children.
X-ALT-DESC;FMTTYPE=text/html:<p dir="ltr" style="line-height:1.38\;margin-top:0pt\;margin-bottom:0pt\;"><span style="font-size:16px\;"><span style="font-family:tahoma\;"><span id="docs-internal-guid-e5d764bb-7fff-d3e4-2d4c-f7a078bcdbcb"><span style="color: rgb(0\, 0\, 0)\; background-color: transparent\; font-variant-numeric: normal\; font-variant-east-asian: normal\; font-variant-alternates: normal\; font-variant-position: normal\; vertical-align: baseline\; white-space-collapse: preserve\;">Join us for a free webinar to explore how ELEA schools and churches impact their communities and parents. You&rsquo\;ll hear the latest Barna research and stories from practitioners on how they&rsquo\;ve seen these findings have an impact in their contexts. You&rsquo\;ll leave this webinar with practical insights for your own ministry contexts.&nbsp\;</span></span></span></span></p>\n\n<ul>\n	<li style="line-height: 1.38\; margin-top: 0pt\; margin-bottom: 0pt\;"><span style="font-size:16px\;"><span style="font-family:tahoma\;"><span id="docs-internal-guid-13b82139-7fff-9d03-0065-b44b4569b242"><span style="background-color: transparent\; font-variant-numeric: normal\; font-variant-east-asian: normal\; font-variant-alternates: normal\; font-variant-position: normal\; vertical-align: baseline\; text-wrap: wrap\;"><strong>Co-Hosts</strong>: </span><span style="background-color: transparent\; font-weight: 400\; font-variant-numeric: normal\; font-variant-east-asian: normal\; font-variant-alternates: normal\; font-variant-position: normal\; vertical-align: baseline\; text-wrap: wrap\;">Cory Newman &amp\; Morgan Faasse&nbsp\;</span></span></span></span></li>\n	<li style="line-height: 1.38\; margin-top: 0pt\; margin-bottom: 0pt\;"><span style="font-size:16px\;"><span style="font-family:tahoma\;"><span id="docs-internal-guid-13b82139-7fff-9d03-0065-b44b4569b242"><span style="background-color: transparent\; font-weight: 700\; font-variant-numeric: normal\; font-variant-east-asian: normal\; font-variant-alternates: normal\; font-variant-position: normal\; vertical-align: baseline\; text-wrap: wrap\;">Barna Research Presenter:</span><span style="background-color: transparent\; font-variant-numeric: normal\; font-variant-east-asian: normal\; font-variant-alternates: normal\; font-variant-position: normal\; vertical-align: baseline\; text-wrap: wrap\;"> Savannah Kimberlin</span></span></span></span></li>\n	<li style="list-style-type: disc\; font-size: 10pt\; font-family: Arial\, sans-serif\; color: rgb(38\, 38\, 38)\; background-color: transparent\; font-weight: 700\; font-variant-numeric: normal\; font-variant-east-asian: normal\; font-variant-alternates: normal\; font-variant-position: normal\; vertical-align: baseline\; white-space: pre\; line-height: 1.38\; margin-top: 0pt\; margin-bottom: 0pt\;"><span style="font-size:16px\;"><span style="font-family:tahoma\;"><span id="docs-internal-guid-13b82139-7fff-9d03-0065-b44b4569b242"><span style="background-color: transparent\; font-variant-numeric: normal\; font-variant-east-asian: normal\; font-variant-alternates: normal\; font-variant-position: normal\; vertical-align: baseline\; text-wrap: wrap\;">Audience:&nbsp\;</span></span></span></span>\n	<ul>\n		<li style="list-style-type: disc\; font-size: 10pt\; font-family: Arial\, sans-serif\; color: rgb(38\, 38\, 38)\; background-color: transparent\; font-weight: 700\; font-variant-numeric: normal\; font-variant-east-asian: normal\; font-variant-alternates: normal\; font-variant-position: normal\; vertical-align: baseline\; white-space: pre\; line-height: 1.38\; margin-top: 0pt\; margin-bottom: 0pt\;"><span style="font-size:16px\;"><span style="font-family:tahoma\;"><span><span style="background-color: transparent\; font-variant-numeric: normal\; font-variant-east-asian: normal\; font-variant-alternates: normal\; font-variant-position: normal\; vertical-align: baseline\; text-wrap: wrap\;"><span style="font-size:16px\;"><span style="font-family:tahoma\;"><span id="docs-internal-guid-13b82139-7fff-9d03-0065-b44b4569b242"><span style="background-color: transparent\; font-weight: 400\; font-variant-numeric: normal\; font-variant-east-asian: normal\; font-variant-alternates: normal\; font-variant-position: normal\; vertical-align: baseline\; text-wrap: wrap\;">School and Congregation leaders of the ELEA</span></span></span></span></span></span></span></span></li>\n		<li style="list-style-type: disc\; font-size: 10pt\; font-family: Arial\, sans-serif\; color: rgb(38\, 38\, 38)\; background-color: transparent\; font-weight: 700\; font-variant-numeric: normal\; font-variant-east-asian: normal\; font-variant-alternates: normal\; font-variant-position: normal\; vertical-align: baseline\; white-space: pre\; line-height: 1.38\; margin-top: 0pt\; margin-bottom: 0pt\;"><span style="font-size:16px\;"><span style="font-family:tahoma\;"><span><span style="background-color: transparent\; font-variant-numeric: normal\; font-variant-east-asian: normal\; font-variant-alternates: normal\; font-variant-position: normal\; vertical-align: baseline\; text-wrap: wrap\;"><span style="font-size:16px\;"><span style="font-family:tahoma\;"><span><span style="background-color: transparent\; font-weight: 400\; font-variant-numeric: normal\; font-variant-east-asian: normal\; font-variant-alternates: normal\; font-variant-position: normal\; vertical-align: baseline\; text-wrap: wrap\;"><span style="font-size:16px\;"><span style="font-family:tahoma\;"><span id="docs-internal-guid-13b82139-7fff-9d03-0065-b44b4569b242"><span style="background-color: transparent\; font-weight: 400\; font-variant-numeric: normal\; font-variant-east-asian: normal\; font-variant-alternates: normal\; font-variant-position: normal\; vertical-align: baseline\; text-wrap: wrap\;">ELCA leaders and stakeholders are considering schools and learning centers as a ministry.</span></span></span></span></span></span></span></span></span></span></span></span></li>\n		<li style="list-style-type: disc\; font-size: 10pt\; font-family: Arial\, sans-serif\; color: rgb(38\, 38\, 38)\; background-color: transparent\; font-weight: 700\; font-variant-numeric: normal\; font-variant-east-asian: normal\; font-variant-alternates: normal\; font-variant-position: normal\; vertical-align: baseline\; white-space: pre\; line-height: 1.38\; margin-top: 0pt\; margin-bottom: 0pt\;"><span style="font-size:16px\;"><span style="font-family:tahoma\;"><span><span style="background-color: transparent\; font-variant-numeric: normal\; font-variant-east-asian: normal\; font-variant-alternates: normal\; font-variant-position: normal\; vertical-align: baseline\; text-wrap: wrap\;"><span style="font-size:16px\;"><span style="font-family:tahoma\;"><span><span style="background-color: transparent\; font-weight: 400\; font-variant-numeric: normal\; font-variant-east-asian: normal\; font-variant-alternates: normal\; font-variant-position: normal\; vertical-align: baseline\; text-wrap: wrap\;"><span style="font-size:16px\;"><span style="font-family:tahoma\;"><span><span style="background-color: transparent\; font-weight: 400\; font-variant-numeric: normal\; font-variant-east-asian: normal\; font-variant-alternates: normal\; font-variant-position: normal\; vertical-align: baseline\; text-wrap: wrap\;"><span style="font-size:16px\;"><span style="font-family:tahoma\;"><span id="docs-internal-guid-13b82139-7fff-9d03-0065-b44b4569b242"><span style="background-color: transparent\; font-weight: 400\; font-variant-numeric: normal\; font-variant-east-asian: normal\; font-variant-alternates: normal\; font-variant-position: normal\; vertical-align: baseline\; text-wrap: wrap\;">Congregations with schools and centers\, also looking to reach congregations who are considering partnerships with schools (synod offices\, larger ELCA network)</span></span></span></span></span></span></span></span></span></span></span></span></span></span></span></span></li>\n	</ul>\n	</li>\n	<li style="list-style-type: disc\; font-size: 10pt\; font-family: Arial\, sans-serif\; color: rgb(38\, 38\, 38)\; background-color: transparent\; font-weight: 700\; font-variant-numeric: normal\; font-variant-east-asian: normal\; font-variant-alternates: normal\; font-variant-position: normal\; vertical-align: baseline\; white-space: pre\; line-height: 1.38\; margin-top: 0pt\; margin-bottom: 0pt\;"><span style="font-size:16px\;"><span style="font-family:tahoma\;"><span><span style="background-color: transparent\; font-variant-numeric: normal\; font-variant-east-asian: normal\; font-variant-alternates: normal\; font-variant-position: normal\; vertical-align: baseline\; text-wrap: wrap\;">Action Step: </span><span style="background-color: transparent\; font-weight: 400\; font-variant-numeric: normal\; font-variant-east-asian: normal\; font-variant-alternates: normal\; font-variant-position: normal\; vertical-align: baseline\; text-wrap: wrap\;">Deploy the assessment to your parents and caregivers of young children.</span></span></span></span></li>\n</ul>\n\n<div>&nbsp\;</div>\n
LOCATION:Webinar Registration Page
UID:e.9247.102
SEQUENCE:3
DTSTAMP:20260423T092829Z
URL:https://members.elcaschools.org/events/details/postponed-tbd-research-based-responses-to-community-needs-102
END:VEVENT

END:VCALENDAR
