BEGIN:VCALENDAR
VERSION:2.0
PRODID:-//ChamberMaster//Event Calendar 2.0//EN
METHOD:PUBLISH
X-PUBLISHED-TTL:P3D
REFRESH-INTERVAL:P3D
CALSCALE:GREGORIAN
BEGIN:VEVENT
DTSTART;VALUE=DATE:20160221
DTEND;VALUE=DATE:20160224
TRANSP:TRANSPARENT
X-MICROSOFT-CDO-ALLDAYEVENT:TRUE
SUMMARY:National Administrator & Pastor Conference
DESCRIPTION:
X-ALT-DESC;FMTTYPE=text/html:
LOCATION:Palmer House Hotel\, Chicago\, IL
UID:e.9247.2
SEQUENCE:3
DTSTAMP:20260422T040014Z
URL:https://members.elcaschools.org/events/details/national-administrator-pastor-conference-02-21-2016-2
END:VEVENT

END:VCALENDAR
