BEGIN:VCALENDAR
VERSION:2.0
PRODID:-//ChamberMaster//Event Calendar 2.0//EN
METHOD:PUBLISH
X-PUBLISHED-TTL:P3D
REFRESH-INTERVAL:P3D
CALSCALE:GREGORIAN
BEGIN:VEVENT
DTSTART:20231109T190000Z
DTEND:20231109T200000Z
X-MICROSOFT-CDO-ALLDAYEVENT:FALSE
SUMMARY:Faith-Filled Explorations: Why Church and School Leaders Need a Coach
DESCRIPTION:This webinar will underscore the importance of having a coach for school and congregational leaders. By offering personalized guidance\, external perspectives\, accountability\, and skill enhancement\, coaches contribute significantly to leaders'\n\ngrowth\, effectiveness\, and overall well-being.\n\nTopics covered may include:\n\n	Conflict Resolution: Coaches equip leaders with conflict resolution techniques\, enabling them to navigate difficult conversations and maintain harmonious relationships within their schools or congregations.\n	Support in Transition: During periods of transition or change\, such as leadership role shifts or organizational adjustments\, coaches provide valuable support and guidance to ensure a smooth transition process.\n	Empowerment and Confidence: Coaches empower leaders by building their self-confidence and self-awareness. This empowerment positively impacts decision-making and the overall leadership approach.\n	External Perspective: Coaches offer an external perspective that can provide fresh insights and unbiased feedback. This can help leaders overcome challenges and see opportunities that they might have missed on their own.\n	Goal Setting and Accountability: Coaches assist leaders in setting clear goals and holding them accountable for their progress. This structured approach helps leaders stay focused and motivated\, resulting in more effective decision-making and goal attainment.\n\nHosted by Jill Beverlin\, Program Director for ELCA Coaching\, and Jason O'Neill\, Administrative Support for ELCA Coaching. Both Jill and Jason are coach trainers for the ELCA and for Coaching at End of Life\, and they each have an active Professional Certified Coach (PCC) accreditation with the International Coaching Federation (ICF).
X-ALT-DESC;FMTTYPE=text/html:<span style="font-size:16px\;"><span style="font-family:tahoma\;">This webinar will underscore the importance of having a coach for school and congregational leaders. By offering personalized guidance\, external perspectives\, accountability\, and skill enhancement\, coaches contribute significantly to leaders'<br>\ngrowth\, effectiveness\, and overall well-being.<br>\nTopics covered may include:</span></span>\n<ul>\n	<li><span style="font-size:16px\;"><span style="font-family:tahoma\;">Conflict Resolution: Coaches equip leaders with conflict resolution techniques\, enabling them to navigate difficult conversations and maintain harmonious relationships within their schools or congregations.</span></span></li>\n	<li><span style="font-size:16px\;"><span style="font-family:tahoma\;">Support in Transition: During periods of transition or change\, such as leadership role shifts or organizational adjustments\, coaches provide valuable support and guidance to ensure a smooth transition process.</span></span></li>\n	<li><span style="font-size:16px\;"><span style="font-family:tahoma\;">Empowerment and Confidence: Coaches empower leaders by building their self-confidence and self-awareness. This empowerment positively impacts decision-making and the overall leadership approach.</span></span></li>\n	<li><span style="font-size:16px\;"><span style="font-family:tahoma\;">External Perspective: Coaches offer an external perspective that can provide fresh insights and unbiased feedback. This can help leaders overcome challenges and see opportunities that they might have missed on their own.</span></span></li>\n	<li><span style="font-size:16px\;"><span style="font-family:tahoma\;">Goal Setting and Accountability: Coaches assist leaders in setting clear goals and holding them accountable for their progress. This structured approach helps leaders stay focused and motivated\, resulting in more effective decision-making and goal attainment.</span></span></li>\n</ul>\n<span style="font-size:16px\;"><span style="font-family:tahoma\;">Hosted by Jill Beverlin\, Program Director for ELCA Coaching\, and Jason O'Neill\, Administrative Support for ELCA Coaching. Both Jill and Jason are coach trainers for the ELCA and for Coaching at End of Life\, and they each have an active Professional Certified Coach (PCC) accreditation with the International Coaching Federation (ICF).</span></span><br>\n&nbsp\;
LOCATION:This will be a Zoom event. The link for our Zoom will be sent out prior to the event.
UID:e.9247.76
SEQUENCE:3
DTSTAMP:20260423T122146Z
URL:https://members.elcaschools.org/events/details/faith-filled-explorations-why-church-and-school-leaders-need-a-coach-76
END:VEVENT

END:VCALENDAR
