BEGIN:VCALENDAR
VERSION:2.0
PRODID:-//ChamberMaster//Event Calendar 2.0//EN
METHOD:PUBLISH
X-PUBLISHED-TTL:P3D
REFRESH-INTERVAL:P3D
CALSCALE:GREGORIAN
BEGIN:VEVENT
DTSTART:20240808T180000Z
DTEND:20240808T190000Z
X-MICROSOFT-CDO-ALLDAYEVENT:FALSE
SUMMARY:Faith-Filled Explorations: Solving Your Curricula Challenges
DESCRIPTION:Teaching Religion: It can be easier than you think!\n\nTeaching Bible lessons to your students can feel daunting. Which Bible stories do you focus on? Do the resources you find match the theology of the ELEA? How do you find the time to create varied and engaging activities? Spirit & Truth Publishing's curricula are easy to use\, theologically solid\, inclusive\, and effective. Learn more about what we have to offer in our Zoom presentation!\n\n\n\nOur Presenters:\n\n	Gregory Rawn is the owner and publisher of Spirit & Truth Publishing. He is passionate about teaching God's inclusive\, unconditional love in the Bible's stories. He has a master's degree from Luther Seminary (St. Paul\, MN).\n	Cindy Paulson is the lead editor at Spirit & Truth\, bringing with her vast experience with curriculum development along with over 20 years in Christian education ministry. She is also a former teacher in an ELEA school.
X-ALT-DESC;FMTTYPE=text/html:<br />\n<span style="font-size:16px\;"><span style="font-family:tahoma\;"><strong>Teaching Religion: It can be easier than you think!</strong><br />\nTeaching Bible lessons to your students can feel daunting. Which Bible stories do you focus on? Do the resources you find match the theology of the ELEA? How do you find the time to create varied and engaging activities? Spirit &amp\; Truth Publishing&#39\;s curricula are easy to use\, theologically solid\, inclusive\, and effective. Learn more about what we have to&nbsp\;offer in our Zoom presentation!<br />\n<br />\n<strong>Our Presenters:</strong></span></span>\n<ul>\n	<li><span style="font-size: 16px\;"><span style="font-family: tahoma\;">Gregory Rawn is the owner and publisher of Spirit &amp\; Truth Publishing. He is passionate about teaching God&rsquo\;s inclusive\, unconditional love in the Bible&#39\;s stories. He has a master&rsquo\;s degree from Luther Seminary (St. Paul\, MN).</span></span></li>\n	<li><span style="font-size: 16px\;"><span style="font-family: tahoma\;">Cindy Paulson is the lead editor at Spirit &amp\; Truth\, bringing with her vast experience with curriculum development along with over 20 years in Christian education ministry. She is also a&nbsp\;former teacher in an ELEA school.</span></span></li>\n</ul>\n
LOCATION:This will be a Zoom event. The link will be attached to your registration confirmation.
UID:e.9247.124
SEQUENCE:3
DTSTAMP:20260422T232514Z
URL:https://members.elcaschools.org/events/details/faith-filled-explorations-solving-your-curricula-challenges-124
END:VEVENT

END:VCALENDAR
