BEGIN:VCALENDAR
VERSION:2.0
PRODID:-//ChamberMaster//Event Calendar 2.0//EN
METHOD:PUBLISH
X-PUBLISHED-TTL:P3D
REFRESH-INTERVAL:P3D
CALSCALE:GREGORIAN
BEGIN:VEVENT
DTSTART:20240111T190000Z
DTEND:20240111T200000Z
X-MICROSOFT-CDO-ALLDAYEVENT:FALSE
SUMMARY:Faith-Filled Explorations: School Board Success Now W/ Gayle Denny
DESCRIPTION:Join Executive Director Emeritus\, Gayle Denny\, as she discusses the importance of school boards\, their roles in ensuring continued success\, and how to avoid tension.  We have a BIG REVEAL planned for the end of this session.\n\n\n\nGayle Denny is a retired educator and former ELEA Executive Director. She has taught everything from early childhood to college\, been an early childhood director\, and served in a number of educational capacities. She is currently happily but busily retired.
X-ALT-DESC;FMTTYPE=text/html:<span style="font-size:16px\;"><span style="font-family:tahoma\;">Join Executive Director Emeritus\, Gayle Denny\, as she discusses the importance of school boards\, their roles in ensuring continued success\, and how to avoid tension.&nbsp\; <strong>We have a BIG REVEAL planned for the end of this session</strong>.<br />\n<br />\n<span class="OYPEnA text-decoration-none text-strikethrough-none" style="color: rgb(66\, 66\, 66)\;">Gayle Denny is a retired educator and former ELEA Executive Director. She has taught everything from early childhood to college\, been an early childhood director\, and served in a number of educational capacities. She is currently happily but busily retired.</span></span></span>
LOCATION:Don't leave early . . .there is a big reveal at the end of this session! This will be a Zoom event. The link will be attached to your registration confirmation.
UID:e.9247.87
SEQUENCE:3
DTSTAMP:20260423T093248Z
URL:https://members.elcaschools.org/events/details/faith-filled-explorations-school-board-success-now-w-gayle-denny-87
END:VEVENT

END:VCALENDAR
