BEGIN:VCALENDAR
VERSION:2.0
PRODID:-//ChamberMaster//Event Calendar 2.0//EN
METHOD:PUBLISH
X-PUBLISHED-TTL:P3D
REFRESH-INTERVAL:P3D
CALSCALE:GREGORIAN
BEGIN:VEVENT
DTSTART:20260521T180000Z
DTEND:20260521T190000Z
X-MICROSOFT-CDO-ALLDAYEVENT:FALSE
SUMMARY:Faith-Filled Explorations: Are Hidden Costs Draining Your School's Mission?
DESCRIPTION:In a time when every dollar matters\, many ELCA schools and congregations are unknowingly losing thousands to overlooked operational expenses costs buried in copier leases\, printing systems\, and vendor contracts that quietly chip away at already stretched budgets.\n\nThis engaging\, eye-opening webinar goes beyond theory to uncover where those dollars are hiding and how to reclaim them.\n\nYou'll discover practical\, real-world strategies to:\n\n\n	Identify and eliminate unnecessary expenses\n	Navigate complex vendor agreements with confidence\n	Redirect savings toward what truly matters: your students\, staff\, and ministry\n\n\nThis isn't about cutting corners it's about strengthening stewardship and aligning every resource with your mission.\n\nFeaturing Al Kietzmann\, President & Founder of Copier Consulting\, LLC\, a trusted advisor with over 30 years of experience serving schools and nonprofits nationwide. Al brings a rare ability to decode confusing contract language and expose hidden costs\, empowering leaders to make clear\, confident\, and mission-driven decisions.\n\nHis passion is simple: help Lutheran schools free up time\, energy\, and resources so they can focus on what they're called to do educate\, disciple\, and transform lives through Christ.
X-ALT-DESC;FMTTYPE=text/html:<p data-end="429" data-start="184"><span style="font-size:16px\;"><span style="font-family:verdana\;">In a time when every dollar matters\, many ELCA schools and congregations are unknowingly losing thousands to overlooked operational expenses&mdash\;costs buried in copier leases\, printing systems\, and vendor contracts that quietly chip away at already stretched budgets.</span></span></p>\n\n<p data-end="551" data-start="431"><span style="font-size:16px\;"><span style="font-family:verdana\;">This engaging\, eye-opening webinar goes beyond theory to uncover where those dollars are hiding&mdash\;and how to reclaim them.</span></span></p>\n\n<p data-end="605" data-start="553"><span style="font-size:16px\;"><span style="font-family:verdana\;">You&rsquo\;ll discover practical\, real-world strategies to:</span></span></p>\n\n<ul data-end="791" data-start="606">\n	<li data-end="653" data-section-id="11l9neq" data-start="606"><span style="font-size:16px\;"><span style="font-family:verdana\;">Identify and eliminate unnecessary expenses</span></span></li>\n	<li data-end="708" data-section-id="l2w908" data-start="654"><span style="font-size:16px\;"><span style="font-family:verdana\;">Navigate complex vendor agreements with confidence</span></span></li>\n	<li data-end="791" data-section-id="20em3t" data-start="709"><span style="font-size:16px\;"><span style="font-family:verdana\;">Redirect savings toward what truly matters: your students\, staff\, and ministry</span></span></li>\n</ul>\n\n<p data-end="909" data-start="793"><span style="font-size:16px\;"><span style="font-family:verdana\;">This isn&rsquo\;t about cutting corners&mdash\;it&rsquo\;s about strengthening stewardship and aligning every resource with your mission.</span></span></p>\n\n<p data-end="1263" data-start="911"><span style="font-size:16px\;"><span style="font-family:verdana\;">Featuring <span class="hover:entity-accent entity-underline inline cursor-pointer align-baseline">Al Kietzmann</span>\, President &amp\; Founder of Copier Consulting\, LLC\, a trusted advisor with over 30 years of experience serving schools and nonprofits nationwide. Al brings a rare ability to decode confusing contract language and expose hidden costs\, empowering leaders to make clear\, confident\, and mission-driven decisions.</span></span></p>\n\n<p data-end="1447" data-start="1265"><span style="font-size:16px\;"><span style="font-family:verdana\;">His passion is simple: help Lutheran schools free up time\, energy\, and resources so they can focus on what they&rsquo\;re called to do&mdash\;educate\, disciple\, and transform lives through Christ.</span></span></p>\n
LOCATION:This will be a Zoom event. The link will be attached to your registration confirmation.
UID:e.9247.290
SEQUENCE:3
DTSTAMP:20260421T221746Z
URL:https://members.elcaschools.org/events/details/faith-filled-explorations-are-hidden-costs-draining-your-school-s-mission-290
END:VEVENT

END:VCALENDAR
