BEGIN:VCALENDAR
VERSION:2.0
PRODID:-//ChamberMaster//Event Calendar 2.0//EN
METHOD:PUBLISH
X-PUBLISHED-TTL:P3D
REFRESH-INTERVAL:P3D
CALSCALE:GREGORIAN
BEGIN:VEVENT
DTSTART;VALUE=DATE:20160219
DTEND;VALUE=DATE:20160220
TRANSP:TRANSPARENT
X-MICROSOFT-CDO-ALLDAYEVENT:TRUE
SUMMARY:END OF OPEN ENROLLMENT for Voluntary Term Life and Disability
DESCRIPTION:Open enrollment closes for Voluntary Life and Disability Insurance.  Find all forms and benefit information at http://eleanational.org/benefits.html
X-ALT-DESC;FMTTYPE=text/html:Open enrollment closes for Voluntary Life and Disability Insurance. &nbsp\;Find all forms and benefit information at&nbsp\;<a href="http://eleanational.org/benefits.html">http://eleanational.org/benefits.html</a>
LOCATION:
UID:e.9247.6
SEQUENCE:3
DTSTAMP:20260422T052456Z
URL:https://members.elcaschools.org/events/details/end-of-open-enrollment-for-voluntary-term-life-and-disability-02-19-2016-6
END:VEVENT

END:VCALENDAR
