BEGIN:VCALENDAR
VERSION:2.0
PRODID:-//ChamberMaster//Event Calendar 2.0//EN
METHOD:PUBLISH
X-PUBLISHED-TTL:P3D
REFRESH-INTERVAL:P3D
CALSCALE:GREGORIAN
BEGIN:VEVENT
DTSTART;VALUE=DATE:20160129
DTEND;VALUE=DATE:20160131
TRANSP:TRANSPARENT
X-MICROSOFT-CDO-ALLDAYEVENT:TRUE
SUMMARY:ELEA Region 3 - 36th Annual Early Childhood Educator?s Conference Executive Function: Life Skills for Children
DESCRIPTION:January 29-30\, 2016\n\nKeynote Speakers:  Erin Ramsey (Friday) and Janis Keyser (Saturday)\n\nRegistration Now Open!  Registration deadline is January 15th.
X-ALT-DESC;FMTTYPE=text/html:<h3>January 29-30\, 2016</h3>\n\n<p><strong>Keynote Speakers</strong>:&nbsp\; Erin Ramsey (Friday) and Janis Keyser (Saturday)</p>\n\n<p><strong style="background-color:inherit\; color:rgb(0\, 0\, 102)\; font-family:arial\,helvetica\,sans-serif\; font-size:13.68px\; margin:0px\; outline:none\; padding:0px\; text-decoration:none"><a href="http://eleanational.org/uploads/2016%20Conference%20%20Brochure.pdf" style="margin: 0px\; padding: 0px\; text-decoration: none\; color: rgb(0\, 0\, 102)\; outline: none\; font-size: 13.68px\; font-family: Arial\, Helvetica\, sans-serif\; background-color: inherit\;"><span style="color:#0000FF">Registration Now Open!</span></a><span style="color:#0000FF">&nbsp\;</span>&nbsp\;</strong>Registration deadline is January 15<sup>th</sup>.&nbsp\;</p>\n
LOCATION:Mount Olivet Lutheran Church 12235 Old Rockford Road Plymouth\, MN 55441
UID:e.9247.3
SEQUENCE:3
DTSTAMP:20260422T053245Z
URL:https://members.elcaschools.org/events/details/elea-region-3-36th-annual-early-childhood-educator-s-conference-executive-function-life-skills-for-children-01-29-2016-3
END:VEVENT

END:VCALENDAR
