BEGIN:VCALENDAR
VERSION:2.0
PRODID:-//ChamberMaster//Event Calendar 2.0//EN
METHOD:PUBLISH
X-PUBLISHED-TTL:P3D
REFRESH-INTERVAL:P3D
CALSCALE:GREGORIAN
BEGIN:VEVENT
DTSTART;VALUE=DATE:20160121
DTEND;VALUE=DATE:20160122
TRANSP:TRANSPARENT
X-MICROSOFT-CDO-ALLDAYEVENT:TRUE
SUMMARY:ELEA National Board Meeting - Conference Call
DESCRIPTION:The ELEA National Board members meet with the Executive Director\, and staff\, twice per year in person\, and two additional times by conference call\, to share information concerning the activities of the regions\, new association services\, resources available through the association and set goals for the Director for the coming year.
X-ALT-DESC;FMTTYPE=text/html:The ELEA <span style="font-family:geneva\,arial\,helvetica\,sans-serif\; font-size:13.68px">National Board members meet with the Executive Director\, and staff\, twice per year in person\, and two additional times by conference call\,&nbsp\;to share information concerning the activities of the regions\, new association services\, resources available through the association and set goals for the Director for the coming year.</span>
LOCATION:
UID:e.9247.10
SEQUENCE:3
DTSTAMP:20260422T053413Z
URL:https://members.elcaschools.org/events/details/elea-national-board-meeting-conference-call-01-21-2016-10
END:VEVENT

END:VCALENDAR
