BEGIN:VCALENDAR
VERSION:2.0
PRODID:-//ChamberMaster//Event Calendar 2.0//EN
METHOD:PUBLISH
X-PUBLISHED-TTL:P3D
REFRESH-INTERVAL:P3D
CALSCALE:GREGORIAN
BEGIN:VEVENT
DTSTART:20220622T180000Z
DTEND:20220624T170000Z
X-MICROSOFT-CDO-ALLDAYEVENT:FALSE
SUMMARY:ELEA Innovative Leadership Summit: Developing the Leader Within
DESCRIPTION:ELEA Innovative Leadership Summit is intense training for leaders of ELCA Schools and Learning Centers who are interested in building a network for yourself\, developing new skills and innovative strategies\, and re-inspiring passion for your mission. Your Pastor should plan to attend via Zoom on June 22nd from 1:00-3:00pm for our first session\, Church and School Together. \n\n\n\nOur panel of 5 experts in their field will guide your journey of leadership development and personal growth through intense and interactive workshops\, exercises\, and reflection. There will be a 1/2 day intensive for participants\, offered at the Convocation\, October 6-8\, 2022 in Milwaukee\, WI.
X-ALT-DESC;FMTTYPE=text/html:<span style="font-family: tahoma\;"><span style="font-size: 14px\;">ELEA Innovative Leadership Summit&nbsp\;</span></span><span style="font-family: tahoma\; font-size: 14px\;">is&nbsp\;</span><span style="font-family: tahoma\;"><span style="font-size: 14px\;">intense training for leaders of ELCA Schools and Learning Centers who are interested in building a network for yourself\, developing new skills and innovative strategies\, and re-inspiring passion for your mission. <em><strong>Your Pastor should plan to attend via Zoom on June 22nd from 1:00-3:00pm for our first session\, Church and School Together.&nbsp\;</strong></em><br />\n<br />\nOur panel of 5 experts in their field will guide your journey of leadership development and personal growth through intense and interactive workshops\, exercises\, and reflection. There will be a 1/2 day intensive for participants\, offered at the Convocation\, October 6-8\, 2022 in Milwaukee\, WI.&nbsp\;&nbsp\;</span></span>
LOCATION:Wyndham Chicago O'Hare hotel\, located at 1450 E Touhy Ave\, Des Plaines\, IL 60018\, near the Allstate Arena and northwest Chicago. Use the free shuttle to and from Chicago O'Hare International Airport (ORD). If you're driving or renting a car\, you can also enjoy free parking throughout your stay. A fully-equipped fitness center\, free wifi\, a plethora of nearby restaurants\, a lobby bar\, and more await you! Room rates have been secured at $85 per night which includes breakfast buffet. For reservations please call 847-296-8866 and tell them you are with ELCA Schools and Learning Centers. The rate is available for 2 days before and 3 days after the meeting for anyone wishing to stay and enjoy all Chicago has to offer.
UID:e.9247.49
SEQUENCE:3
DTSTAMP:20260424T113954Z
URL:https://members.elcaschools.org/events/details/elea-innovative-leadership-summit-developing-the-leader-within-49
END:VEVENT

END:VCALENDAR
