BEGIN:VCALENDAR
VERSION:2.0
PRODID:-//ChamberMaster//Event Calendar 2.0//EN
METHOD:PUBLISH
X-PUBLISHED-TTL:P3D
REFRESH-INTERVAL:P3D
CALSCALE:GREGORIAN
BEGIN:VEVENT
DTSTART;VALUE=DATE:20180624
DTEND;VALUE=DATE:20180627
TRANSP:TRANSPARENT
X-MICROSOFT-CDO-ALLDAYEVENT:TRUE
SUMMARY:ELEA Director Boot Camp
DESCRIPTION:ELEA Director Boot Camp is an intense training for both new and seasoned early childhood directors (or directors in training) who are interested in building a network for yourself\, developing new skills and strategies and re-inspiring your passion for your mission.
X-ALT-DESC;FMTTYPE=text/html:ELEA Director Boot Camp is an intense training for both new and seasoned early childhood directors (or directors in training) who are interested in building a network for yourself\, developing new skills and strategies and re-inspiring your passion for your mission.&nbsp\;&nbsp\;
LOCATION:With a stay at Gaylord Texan Resort & Convention Center in Grapevine\, you'll be on a lake and minutes from Gaylord Texan Convention Center and close to Grapevine Mills Mall. This 4-star resort is within close proximity of Grapevine Lake and Cowboys Golf Course.
UID:e.9247.27
SEQUENCE:3
DTSTAMP:20260422T082120Z
URL:https://members.elcaschools.org/events/details/elea-director-boot-camp-27
END:VEVENT

END:VCALENDAR
