BEGIN:VCALENDAR
VERSION:2.0
PRODID:-//ChamberMaster//Event Calendar 2.0//EN
METHOD:PUBLISH
X-PUBLISHED-TTL:P3D
REFRESH-INTERVAL:P3D
CALSCALE:GREGORIAN
BEGIN:VEVENT
DTSTART:20160421T230000Z
DTEND:20160423T220000Z
X-MICROSOFT-CDO-ALLDAYEVENT:FALSE
SUMMARY:ELEA Director Boot Camp 2016-17
DESCRIPTION:Registration is now open for ELEA's April 21-23\, 2016 Early Childhood Director Boot Camp being held in Las Vegas\, NV.  This is Part 1 of an intensive "back to basics" training for new and re-newing early childhood directors.  Part 2 is February 14-16\, 2017 at the ELEA National School Administrator and Pastor Conference in Norfolk\, VA.  Both parts are required to complete the program.  \nCurrent ELEA members may register NOW for Part 1. Non-members (and those from other church bodies) may be put on a waiting list by contacting Cory Newman\, ELEA Associate Director at elcaschools@gmail.com.  ELEA members have the first opportunity of filling the limited spots in this program.  Those on the waiting list will be contacted March 1\, if space remains they may complete registration.
X-ALT-DESC;FMTTYPE=text/html:Registration is now open for ELEA&#39\;s April 21-23\, 2016 Early Childhood Director Boot Camp being held in Las Vegas\, NV. &nbsp\;This is Part 1 of an intensive &quot\;back to basics&quot\; training for new and re-newing early childhood directors. &nbsp\;Part 2 is February 14-16\, 2017 at the ELEA National School Administrator and Pastor Conference in Norfolk\, VA. &nbsp\;Both parts are required to complete the program.&nbsp\;&nbsp\;\n<div>Current ELEA&nbsp\;members may register NOW for Part 1. Non-members (and those from other church bodies) may be put on a waiting list by contacting Cory Newman\, ELEA Associate Director at elcaschools@gmail.com. &nbsp\;ELEA members have the first opportunity&nbsp\;of filling the limited spots in this program. &nbsp\;Those on the waiting list will be contacted March 1\, if space remains&nbsp\;they may complete registration.&nbsp\;</div>\n\n<div>&nbsp\;</div>\n\n<div>&nbsp\;</div>\n
LOCATION:Embassy Suites\, 3600 Paradise Road\, Las Vegas\, NV 89169. Room rates are $139.00 for king suites and $154.00 for double queen suites. Plus 12% tax\, but no resort or parking fees. Free WiFi\, full cook-to-order breakfasts and happy hour drinks and snacks. All suites are two rooms and include a sofa bed in the living room. If there are more than 2 people in a room\, the fee is $10.00 per person for additional. To reserve rooms\, guests can call 702-947-7166 or 888-243-9146 and identify themselves with the ELEA group for those dates. The room rate will be honored 3 nights prior and 3 nights after. Reservations must be made by 3/24/2016.
UID:e.9247.4
SEQUENCE:3
DTSTAMP:20260422T004820Z
URL:https://members.elcaschools.org/events/details/elea-director-boot-camp-2016-17-04-21-2016-4
END:VEVENT

END:VCALENDAR
