BEGIN:VCALENDAR
VERSION:2.0
PRODID:-//ChamberMaster//Event Calendar 2.0//EN
METHOD:PUBLISH
X-PUBLISHED-TTL:P3D
REFRESH-INTERVAL:P3D
CALSCALE:GREGORIAN
BEGIN:VEVENT
DTSTART:20230220T190000Z
DTEND:20230220T200000Z
X-MICROSOFT-CDO-ALLDAYEVENT:FALSE
SUMMARY:Building a Winning Student Enrollment System
DESCRIPTION:Join industry expert Nick LeRoy\, Chief Enrollment Officer at SchoolMint\, as he shares proven strategies on how to attract and enroll more families and students through solid marketing practices. Join us to learn:\n\n\n	The macro factors contributing to a challenging enrollment environment.\n	The steps needed in building a strong enrollment system for your school.\n	The best practices in marketing\, recruitment\, and retention\n\n\n\n\nNick LeRoy serves as SchoolMint's Chief Enrollment Officer\, overseeing SchoolMint's strategic marketing services department where he spends his days helping client schools and districts improve their student recruitment efforts. As a former independent enrollment consultant\, Executive Director for the Indiana Charter School Board\, and with a previous 15-year career as a global marketing executive\, LeRoy brings a unique perspective to the challenges of student recruitment. Nick has an undergraduate degree from the University of Utah and received his MBA in marketing from Emory University.
X-ALT-DESC;FMTTYPE=text/html:<div><span style="font-size:18px\;"><span style="font-family:arial\;">Join industry expert Nick LeRoy\, Chief Enrollment Officer at SchoolMint\, as he shares proven strategies on how to attract and enroll more families and students through solid marketing practices. Join us to learn:</span></span></div>\n\n<ul>\n	<li><span style="font-size:18px\;"><span style="font-family:arial\;">The macro factors contributing to a challenging enrollment environment.</span></span></li>\n	<li><span style="font-size:18px\;"><span style="font-family:arial\;">The steps needed in building a strong enrollment system for your school.</span></span></li>\n	<li><span style="font-size:18px\;"><span style="font-family:arial\;">The best practices in marketing\, recruitment\, and retention</span></span></li>\n</ul>\n\n<div><br />\n<span style="font-size:18px\;"><span style="font-family:arial\;">Nick LeRoy serves as SchoolMint&rsquo\;s Chief Enrollment Officer\, overseeing SchoolMint&rsquo\;s strategic marketing services department where he spends his days helping client schools and districts improve their student recruitment efforts. As a former independent enrollment consultant\, Executive Director for the Indiana Charter School Board\, and with a previous 15-year career as a global marketing executive\, LeRoy brings a unique perspective to the challenges of student recruitment. Nick has an undergraduate degree from the University of Utah and received his MBA in marketing from Emory University.</span></span></div>\n
LOCATION:This event will take place over Zoom. Registered attendees will receive the recording of this event. Registration Link https://us02web.zoom.us/meeting/register/tZElfuirrj4vG9Z7zSoQc2M1K3IwD42BFfXA
UID:e.9247.68
SEQUENCE:3
DTSTAMP:20260424T004439Z
URL:https://members.elcaschools.org/events/details/building-a-winning-student-enrollment-system-68
END:VEVENT

END:VCALENDAR
