BEGIN:VCALENDAR
VERSION:2.0
PRODID:-//ChamberMaster//Event Calendar 2.0//EN
METHOD:PUBLISH
X-PUBLISHED-TTL:P3D
REFRESH-INTERVAL:P3D
CALSCALE:GREGORIAN
BEGIN:VEVENT
DTSTART:20240409T170000Z
DTEND:20240409T180000Z
X-MICROSOFT-CDO-ALLDAYEVENT:FALSE
SUMMARY:Book Study: The Lighthouse Effect
DESCRIPTION:Steve Pemberton's book\, The Lighthouse Effect\, is an incredible read that will make you re-evaluate the people who have come into your life\, even if just for a short while. The book explores how ordinary individuals can have an extraordinary impact on the world. Pemberton takes you on a journey through the lives of several people he has met throughout his lifetime\, drawing you in with their quiet words\, small gestures\, and profound impact on him. By reading this book\, you may find yourself reflecting more on the impact you've had on others. To get a head start on your preparations for the 2024 ELEA National Conference\, introduce yourself to our keynote speaker's latest publication and join the book study with ELEA board member\, Sara Kantorik.
X-ALT-DESC;FMTTYPE=text/html:<span style="font-size:16px\;"><span style="font-family:verdana\;">Steve Pemberton&#39\;s book\, The Lighthouse Effect\, is an incredible read that will make you re-evaluate the people who have come into your life\, even if just for a short while. The book explores how ordinary individuals can have an extraordinary impact on the world. Pemberton takes you on a journey through the lives of several people he has met throughout his lifetime\, drawing you in with their quiet words\, small gestures\, and profound impact on him. By reading this book\, you may find yourself reflecting more on the impact you&#39\;ve had on others. To get a head start on your preparations for the 2024 ELEA National Conference\, introduce yourself to our keynote speaker&#39\;s latest publication and join the book study with ELEA board member\, Sara Kantorik.</span></span>
LOCATION:This will be a live Zoom event. The meeting link will be sent in your registration confirmation.
UID:e.9247.89
SEQUENCE:3
DTSTAMP:20260423T052646Z
URL:https://members.elcaschools.org/events/details/book-study-the-lighthouse-effect-89
END:VEVENT

END:VCALENDAR
