BEGIN:VCALENDAR
VERSION:2.0
PRODID:-//ChamberMaster//Event Calendar 2.0//EN
METHOD:PUBLISH
X-PUBLISHED-TTL:P3D
REFRESH-INTERVAL:P3D
CALSCALE:GREGORIAN
BEGIN:VEVENT
DTSTART;VALUE=DATE:20180228
DTEND;VALUE=DATE:20180303
TRANSP:TRANSPARENT
X-MICROSOFT-CDO-ALLDAYEVENT:TRUE
SUMMARY:Annual IGNITE Administrator & Pastor Conference
DESCRIPTION:Once a year\, administrators and pastors gather to network and learn to achieve the highest quality programming possible.  Come to Minneapolis 2018 and experience the content and connections you need to get your school or center to the next level.  For the seventh straight year\, ELEA will be co-hosting its Administrator & Pastor Conference with ALDE.
X-ALT-DESC;FMTTYPE=text/html:<p class="font_8" style="margin: 0px\; padding: 0px\; border: 0px\; outline: 0px\; vertical-align: baseline\; background: transparent\; font-stretch: normal\; font-size: 14px\; line-height: normal\; font-family: futura-lt-w01-book\, sans-serif\; color: rgb(47\, 46\, 46)\;"><span style="margin: 0px\; padding: 0px\; border: 0px\; outline: 0px\; vertical-align: baseline\; background: transparent\;">Once a year\, administrators and pastors gather to network and learn to achieve the highest quality programming possible. &nbsp\;</span><span style="margin: 0px\; padding: 0px\; border: 0px\; outline: 0px\; vertical-align: baseline\; background: transparent\; color: rgb(47\, 46\, 46)\; font-family: futura-lt-w01-book\, sans-serif\; font-size: 14px\;">Come to Minneapolis 2018 and experience the content and connections you need to</span><span style="color: rgb(47\, 46\, 46)\; font-family: futura-lt-w01-book\, sans-serif\; font-size: 14px\;">&nbsp\;</span><span style="margin: 0px\; padding: 0px\; border: 0px\; outline: 0px\; vertical-align: baseline\; background: transparent\; color: rgb(47\, 46\, 46)\; font-size: 14px\; font-family: wfont_79af44_bee4a8c62b0840c1b6d1c91d3feb66b1\, wf_bee4a8c62b0840c1b6d1c91d3\, orig_futurat_bold\;"><span style="margin: 0px\; padding: 0px\; border: 0px\; outline: 0px\; vertical-align: baseline\; background: transparent\; font-weight: bold\;">get your school or center to the next level. &nbsp\;</span></span><span style="margin: 0px\; padding: 0px\; border: 0px\; outline: 0px\; vertical-align: baseline\; background: transparent\;">For the seventh straight year\, ELEA will be co-hosting its Administrator &amp\; Pastor Conference with ALDE.</span></p>\n\n<p class="font_8" style="margin: 0px\; padding: 0px\; border: 0px\; outline: 0px\; vertical-align: baseline\; background: transparent\; font-stretch: normal\; font-size: 14px\; line-height: normal\; font-family: futura-lt-w01-book\, sans-serif\; color: rgb(47\, 46\, 46)\;"><span class="wixGuard" style="margin: 0px\; padding: 0px\; border: 0px\; outline: 0px\; vertical-align: baseline\; background: transparent\;">&#8203\;</span></p>\n\n<p class="font_8" style="margin: 0px\; padding: 0px\; border: 0px\; outline: 0px\; vertical-align: baseline\; background: transparent\; font-stretch: normal\; font-size: 16px\; line-height: normal\; font-family: futura-lt-w01-book\, sans-serif\; color: rgb(47\, 46\, 46)\;">&nbsp\;</p>\n
LOCATION:We are excited to return to the Twin Cities\, a place known for excellent hospitality\, world class dining\, a thriving music scene\, diverse shopping options\, and natural beauty. You can even choose to stay out of the cold as much of downtown Minneapolis (including the Hyatt) is connected by Skyway.
UID:e.9247.22
SEQUENCE:3
DTSTAMP:20260419T131351Z
URL:https://members.elcaschools.org/events/details/annual-ignite-administrator-pastor-conference-22
END:VEVENT

END:VCALENDAR
